BEGIN:VCALENDAR
VERSION:2.0
PRODID:-//CoMet 2.0 Arctic - ECPv6.15.20//NONSGML v1.0//EN
CALSCALE:GREGORIAN
METHOD:PUBLISH
X-WR-CALNAME:CoMet 2.0 Arctic
X-ORIGINAL-URL:https://comet2arctic.de
X-WR-CALDESC:Events for CoMet 2.0 Arctic
REFRESH-INTERVAL;VALUE=DURATION:PT1H
X-Robots-Tag:noindex
X-PUBLISHED-TTL:PT1H
BEGIN:VTIMEZONE
TZID:UTC
BEGIN:STANDARD
TZOFFSETFROM:+0000
TZOFFSETTO:+0000
TZNAME:UTC
DTSTART:20220101T000000
END:STANDARD
END:VTIMEZONE
BEGIN:VTIMEZONE
TZID:Europe/Paris
BEGIN:DAYLIGHT
TZOFFSETFROM:+0100
TZOFFSETTO:+0200
TZNAME:CEST
DTSTART:20220327T010000
END:DAYLIGHT
BEGIN:STANDARD
TZOFFSETFROM:+0200
TZOFFSETTO:+0100
TZNAME:CET
DTSTART:20221030T010000
END:STANDARD
BEGIN:DAYLIGHT
TZOFFSETFROM:+0100
TZOFFSETTO:+0200
TZNAME:CEST
DTSTART:20230326T010000
END:DAYLIGHT
BEGIN:STANDARD
TZOFFSETFROM:+0200
TZOFFSETTO:+0100
TZNAME:CET
DTSTART:20231029T010000
END:STANDARD
BEGIN:DAYLIGHT
TZOFFSETFROM:+0100
TZOFFSETTO:+0200
TZNAME:CEST
DTSTART:20240331T010000
END:DAYLIGHT
BEGIN:STANDARD
TZOFFSETFROM:+0200
TZOFFSETTO:+0100
TZNAME:CET
DTSTART:20241027T010000
END:STANDARD
END:VTIMEZONE
BEGIN:VEVENT
DTSTART;VALUE=DATE:20230619
DTEND;VALUE=DATE:20230623
DTSTAMP:20260421T161053
CREATED:20230316T135438Z
LAST-MODIFIED:20230413T101734Z
UID:1398-1687132800-1687478399@comet2arctic.de
SUMMARY:44th Canadian Symposium on Remote Sensing
DESCRIPTION:Remote sensing for a resilient future – monitoruing our dynamic environment \n  \nAndreas Fix presents Airborne remote sensing and in-situ measurements of greenhouse gases during the CoMet 2.0 Arctic field experiment in Canada
URL:https://comet2arctic.de/events/44th-canadian-symposium-on-remote-sensing
CATEGORIES:Key note
END:VEVENT
BEGIN:VEVENT
DTSTART;VALUE=DATE:20230424
DTEND;VALUE=DATE:20230429
DTSTAMP:20260421T161053
CREATED:20230316T133230Z
LAST-MODIFIED:20230424T091713Z
UID:1391-1682294400-1682726399@comet2arctic.de
SUMMARY:CoMet2.0 related sessions @ EGU23
DESCRIPTION:List of sessions beeing of interest to the CoMet2.0 comunity: \nBG1.8: High latitude biogeochemistry: Addressing challenges in GHG\, from in situ to remote sensing:\n \nEGU23-13301 | Orals | BG1.8 | Highlight\nCoMet 2.0 Arctic: Carbon Dioxide and Methane Mission for HALO\nAndreas Fix\, Heinrich Bovensmann\, Christoph Gerbig\, Sven Krautwurst\, Michal Gałkowski\, Quatrevalet Mathieu\, Christian Fruck\, Sebastian Wolff\, Friedemann Reum\, Paul Waldmann\, Florian Ewald\, Bernhard Mayer\, Patrick Jöckel\, Christoph Kiemle\, Charles E. Miller\, and and the CoMet 2.0 Arctic team\nTue\, 25 Apr\, 14:35–14:45   Room 2.95 \nEGU23-14205 | Posters on site | BG1.8 | Highlight\nIn situ measurements of greenhouse gas mole fractions over North American high-latitude regions during CoMet 2.0 Arctic mission\nMichal Galkowski\, Christoph Gerbig\, Uwe Schultz\, and Andreas Fix \n  \nAS5.18: Remote sensing of atmospheric composition: MAX-DOAS\, spectral imaging\, and other techniques: \nEGU23-15430 | Posters on site | AS5.18\nThe airborne greenhouse gas observation systems MAMAP2D-Light and MAMAP2D – Characterization and performance assessment\nJakob Borchardt\, Konstantin Gerilowski\, Oke Huhs\, Sven Krautwurst\, Heinrich Bovensmann\, Hartmut Bösch\, and John P. Burrows\nTue\, 25 Apr\, 16:15–18:00   Hall X5 | X5.145 \n  \nAS3.12: Quantification of anthropogenic methane sources through atmospheric measurement studies: Finding targets for mitigation worldwide: \nEGU23-7283 | Orals | AS3.12\nFirst Quantitative Assessment of Anthropogenic Methane Sources Investigated by the CHARM-F Lidar during the CoMet 2.0 Arctic Airborne Campaign\nChristian Fruck\, Mathieu Quatrevalet\, Andreas Fix\, Sebastian Wolff\, Martin Wirth\, and Gerhard Ehret\nThu\, 27 Apr\, 15:15–15:25   Room M \nEGU23-14191 | Posters on site | AS3.12\nDevelopment and First Deployment of an Innovative Airborne δ13C(CH4) In Situ Measurement Setup\nPaul Waldmann\, Michael Lichtenstern\, Friedemann Reum\, Helmut Ziereis\, Alina Fiehn\, Michał Gałkowski\, Christoph Gerbig\, Andreas Fix\, and Anke Roiger\nThu\, 27 Apr\, 10:45–12:30   Hall X5 | X5.78 \nEGU23-13484 | Orals | AS3.12\nAnthropogenic and natural CH4 and CO2 emissions observed by a combination of passive\, active\, and in situ airborne measurements during the CoMet 2.0 Arctic mission in Canada 2022\nSven Krautwurst\, Jakob Borchardt\, Oke Huhs\, Konstantin Gerilowski\, Christian Fruck\, Michal Galkowski\, John P. Burrows\, Christoph Gerbig\, Andreas Fix\, Hartmut Bösch\, and Heinrich Bovensmann\nThu\, 27 Apr\, 15:25–15:35   Room M1 \n  \n 
URL:https://comet2arctic.de/events/comet2-0-related-sessions-egu23
LOCATION:Austria Center Vienna\, Bruno-Kreisky-Platz 1\, Vienna\, 1220\, Austria
END:VEVENT
END:VCALENDAR